BEGIN:VCALENDAR
VERSION:2.0
PRODID:-//Ordine degli Avvocati di Foggia - ECPv4.9.10//NONSGML v1.0//EN
CALSCALE:GREGORIAN
METHOD:PUBLISH
X-WR-CALNAME:Ordine degli Avvocati di Foggia
X-ORIGINAL-URL:https://ordineavvocatifoggia.it
X-WR-CALDESC:Eventi per Ordine degli Avvocati di Foggia
BEGIN:VTIMEZONE
TZID:Europe/Rome
BEGIN:DAYLIGHT
TZOFFSETFROM:+0100
TZOFFSETTO:+0200
TZNAME:CEST
DTSTART:20230326T010000
END:DAYLIGHT
BEGIN:STANDARD
TZOFFSETFROM:+0200
TZOFFSETTO:+0100
TZNAME:CET
DTSTART:20231029T010000
END:STANDARD
END:VTIMEZONE
BEGIN:VEVENT
DTSTART;VALUE=DATE:20230523
DTEND;VALUE=DATE:20230524
DTSTAMP:20260425T234921
CREATED:20230518T131346Z
LAST-MODIFIED:20230518T131346Z
UID:38289-1684800000-1684886399@ordineavvocatifoggia.it
SUMMARY:Udienza penale del 23/5/2023 Giudice di Pace di Trinitapoli Avv. Rizzi
DESCRIPTION:Il provvedimento è allegato. \n\n        \n            Allegati\n        2023.05.23 Udienza Rizzi (298 kB)
URL:https://ordineavvocatifoggia.it/event/udienza-penale-del-23-5-2023-giudice-di-pace-di-trinitapoli-avv-rizzi/
CATEGORIES:Udienze
END:VEVENT
END:VCALENDAR