BEGIN:VCALENDAR
VERSION:2.0
PRODID:-//Ordine degli Avvocati di Foggia - ECPv4.9.10//NONSGML v1.0//EN
CALSCALE:GREGORIAN
METHOD:PUBLISH
X-WR-CALNAME:Ordine degli Avvocati di Foggia
X-ORIGINAL-URL:https://ordineavvocatifoggia.it
X-WR-CALDESC:Eventi per Ordine degli Avvocati di Foggia
BEGIN:VTIMEZONE
TZID:Europe/Rome
BEGIN:DAYLIGHT
TZOFFSETFROM:+0100
TZOFFSETTO:+0200
TZNAME:CEST
DTSTART:20230326T010000
END:DAYLIGHT
BEGIN:STANDARD
TZOFFSETFROM:+0200
TZOFFSETTO:+0100
TZNAME:CET
DTSTART:20231029T010000
END:STANDARD
END:VTIMEZONE
BEGIN:VEVENT
DTSTART;VALUE=DATE:20231019
DTEND;VALUE=DATE:20231020
DTSTAMP:20260423T054731
CREATED:20231016T121458Z
LAST-MODIFIED:20231016T121458Z
UID:39590-1697673600-1697759999@ordineavvocatifoggia.it
SUMMARY:Udienza penale del 19/10/2023 Giudice di Pace di Manfredonia dott. Di Lella
DESCRIPTION:Il ruolo è allegato. \n\n        \n            Allegati\n        udienza penale 19-10-2023 (657 kB)
URL:https://ordineavvocatifoggia.it/event/udienza-penale-del-19-10-2023-giudice-di-pace-di-manfredonia-dott-di-lella/
CATEGORIES:Udienze
END:VEVENT
END:VCALENDAR