BEGIN:VCALENDAR
VERSION:2.0
PRODID:-//Ordine degli Avvocati di Foggia - ECPv4.9.10//NONSGML v1.0//EN
CALSCALE:GREGORIAN
METHOD:PUBLISH
X-WR-CALNAME:Ordine degli Avvocati di Foggia
X-ORIGINAL-URL:https://ordineavvocatifoggia.it
X-WR-CALDESC:Eventi per Ordine degli Avvocati di Foggia
BEGIN:VTIMEZONE
TZID:Europe/Rome
BEGIN:DAYLIGHT
TZOFFSETFROM:+0100
TZOFFSETTO:+0200
TZNAME:CEST
DTSTART:20230326T010000
END:DAYLIGHT
BEGIN:STANDARD
TZOFFSETFROM:+0200
TZOFFSETTO:+0100
TZNAME:CET
DTSTART:20231029T010000
END:STANDARD
END:VTIMEZONE
BEGIN:VEVENT
DTSTART;VALUE=DATE:20230616
DTEND;VALUE=DATE:20230617
DTSTAMP:20260425T162840
CREATED:20230606T122654Z
LAST-MODIFIED:20230606T122654Z
UID:38482-1686873600-1686959999@ordineavvocatifoggia.it
SUMMARY:Udienza penale del 16/6/2023 Giudice di Pace di Lucera dott.ssa Ferrigni (ruolo ex Filograno)
DESCRIPTION:Il provvedimento è allegato. \n\n        \n            Allegati\n        2023.06.16 Udienza Ferrigni ( ex Filograno) (74 kB)
URL:https://ordineavvocatifoggia.it/event/udienza-penale-del-16-6-2023-giudice-di-pace-di-lucera-dott-ssa-ferrigni-ruolo-ex-filograno/
CATEGORIES:Udienze
END:VEVENT
END:VCALENDAR