BEGIN:VCALENDAR
VERSION:2.0
PRODID:-//Ordine degli Avvocati di Foggia - ECPv4.9.10//NONSGML v1.0//EN
CALSCALE:GREGORIAN
METHOD:PUBLISH
X-WR-CALNAME:Ordine degli Avvocati di Foggia
X-ORIGINAL-URL:https://ordineavvocatifoggia.it
X-WR-CALDESC:Eventi per Ordine degli Avvocati di Foggia
BEGIN:VTIMEZONE
TZID:Europe/Rome
BEGIN:DAYLIGHT
TZOFFSETFROM:+0100
TZOFFSETTO:+0200
TZNAME:CEST
DTSTART:20230326T010000
END:DAYLIGHT
BEGIN:STANDARD
TZOFFSETFROM:+0200
TZOFFSETTO:+0100
TZNAME:CET
DTSTART:20231029T010000
END:STANDARD
END:VTIMEZONE
BEGIN:VEVENT
DTSTART;VALUE=DATE:20231212
DTEND;VALUE=DATE:20231213
DTSTAMP:20260421T204609
CREATED:20231206T091837Z
LAST-MODIFIED:20231206T091837Z
UID:40024-1702339200-1702425599@ordineavvocatifoggia.it
SUMMARY:Udienza penale del 12/12/2023 Giudice di Pace di Foggia dott.ssa Lovaglio
DESCRIPTION:Il ruolo è allegato. \n\n        \n            Allegati\n        provvedimento udienza 12.12.23 G. Lovaglio (603 kB)
URL:https://ordineavvocatifoggia.it/event/udienza-penale-del-12-12-2023-giudice-di-pace-di-foggia-dott-ssa-lovaglio/
CATEGORIES:Udienze
END:VEVENT
END:VCALENDAR