BEGIN:VCALENDAR
VERSION:2.0
PRODID:-//Ordine degli Avvocati di Foggia - ECPv4.9.10//NONSGML v1.0//EN
CALSCALE:GREGORIAN
METHOD:PUBLISH
X-WR-CALNAME:Ordine degli Avvocati di Foggia
X-ORIGINAL-URL:https://ordineavvocatifoggia.it
X-WR-CALDESC:Eventi per Ordine degli Avvocati di Foggia
BEGIN:VTIMEZONE
TZID:Europe/Rome
BEGIN:DAYLIGHT
TZOFFSETFROM:+0100
TZOFFSETTO:+0200
TZNAME:CEST
DTSTART:20250330T010000
END:DAYLIGHT
BEGIN:STANDARD
TZOFFSETFROM:+0200
TZOFFSETTO:+0100
TZNAME:CET
DTSTART:20251026T010000
END:STANDARD
END:VTIMEZONE
BEGIN:VEVENT
DTSTART;VALUE=DATE:20250401
DTEND;VALUE=DATE:20250402
DTSTAMP:20260425T124548
CREATED:20250324T145524Z
LAST-MODIFIED:20250324T145524Z
UID:43270-1743465600-1743551999@ordineavvocatifoggia.it
SUMMARY:Udienza penale del 1/04/2025 Giudice di Pace di Foggia dott.ssa Bonuomo
DESCRIPTION:Il provvedimento è allegato. \n\n        \n            Allegati\n        statino udienza 01.04.25 G. Bonuomo (111 kB)
URL:https://ordineavvocatifoggia.it/event/udienza-penale-del-1-04-2025-giudice-di-pace-di-foggia-dott-ssa-bonuomo/
CATEGORIES:Udienze
END:VEVENT
END:VCALENDAR