BEGIN:VCALENDAR
VERSION:2.0
PRODID:-//Ordine degli Avvocati di Foggia - ECPv4.9.10//NONSGML v1.0//EN
CALSCALE:GREGORIAN
METHOD:PUBLISH
X-WR-CALNAME:Ordine degli Avvocati di Foggia
X-ORIGINAL-URL:https://ordineavvocatifoggia.it
X-WR-CALDESC:Eventi per Ordine degli Avvocati di Foggia
BEGIN:VTIMEZONE
TZID:Europe/Rome
BEGIN:DAYLIGHT
TZOFFSETFROM:+0100
TZOFFSETTO:+0200
TZNAME:CEST
DTSTART:20160327T010000
END:DAYLIGHT
BEGIN:STANDARD
TZOFFSETFROM:+0200
TZOFFSETTO:+0100
TZNAME:CET
DTSTART:20161030T010000
END:STANDARD
END:VTIMEZONE
BEGIN:VEVENT
DTSTART;VALUE=DATE:20160927
DTEND;VALUE=DATE:20160928
DTSTAMP:20260422T082306
CREATED:20160921T110745Z
LAST-MODIFIED:20160921T110745Z
UID:9130-1474934400-1475020799@ordineavvocatifoggia.it
SUMMARY:Udienza dott.ssa Mari del 27/09/2016
DESCRIPTION:L’udienza sarà tenuta dalla dott.ssa Rignanese alle ore 11:00 come da avviso allegato.\nUdienza del 27-09-16 Dott.ssa Mari \n\n		AllegatiUdienza dott.ssa Mari del 27/09/2016 (38.5 KB) \n        \n            Allegati\n        mari_270916 (39 kB)
URL:https://ordineavvocatifoggia.it/event/udienza-dott-ssa-mari-del-27092016/
CATEGORIES:Rinivii udienze
END:VEVENT
END:VCALENDAR