BEGIN:VCALENDAR
VERSION:2.0
PRODID:-//Ordine degli Avvocati di Foggia - ECPv4.9.10//NONSGML v1.0//EN
CALSCALE:GREGORIAN
METHOD:PUBLISH
X-WR-CALNAME:Ordine degli Avvocati di Foggia
X-ORIGINAL-URL:https://ordineavvocatifoggia.it
X-WR-CALDESC:Eventi per Ordine degli Avvocati di Foggia
BEGIN:VTIMEZONE
TZID:Europe/Rome
BEGIN:DAYLIGHT
TZOFFSETFROM:+0100
TZOFFSETTO:+0200
TZNAME:CEST
DTSTART:20210328T010000
END:DAYLIGHT
BEGIN:STANDARD
TZOFFSETFROM:+0200
TZOFFSETTO:+0100
TZNAME:CET
DTSTART:20211031T010000
END:STANDARD
END:VTIMEZONE
BEGIN:VEVENT
DTSTART;VALUE=DATE:20210608
DTEND;VALUE=DATE:20210609
DTSTAMP:20260423T184151
CREATED:20210604T140728Z
LAST-MODIFIED:20210604T140728Z
UID:28806-1623110400-1623196799@ordineavvocatifoggia.it
SUMMARY:Udienza dell'8/6/2021 Giudice di Pace di Foggia dott.ssa Gerardo
DESCRIPTION:Il provvedimento è allegato. \n\n		Allegati2021-06-08 udienza gerardo (254.4 KB) 
URL:https://ordineavvocatifoggia.it/event/udienza-dell8-6-2021-giudice-di-pace-di-foggia-dott-ssa-gerardo/
CATEGORIES:Udienze
END:VEVENT
END:VCALENDAR