BEGIN:VCALENDAR
VERSION:2.0
PRODID:-//Ordine degli Avvocati di Foggia - ECPv4.9.10//NONSGML v1.0//EN
CALSCALE:GREGORIAN
METHOD:PUBLISH
X-WR-CALNAME:Ordine degli Avvocati di Foggia
X-ORIGINAL-URL:https://ordineavvocatifoggia.it
X-WR-CALDESC:Eventi per Ordine degli Avvocati di Foggia
BEGIN:VTIMEZONE
TZID:Europe/Rome
BEGIN:DAYLIGHT
TZOFFSETFROM:+0100
TZOFFSETTO:+0200
TZNAME:CEST
DTSTART:20200329T010000
END:DAYLIGHT
BEGIN:STANDARD
TZOFFSETFROM:+0200
TZOFFSETTO:+0100
TZNAME:CET
DTSTART:20201025T010000
END:STANDARD
END:VTIMEZONE
BEGIN:VEVENT
DTSTART;VALUE=DATE:20200109
DTEND;VALUE=DATE:20200110
DTSTAMP:20260426T033138
CREATED:20200108T080630Z
LAST-MODIFIED:20200108T080630Z
UID:15927-1578528000-1578614399@ordineavvocatifoggia.it
SUMMARY:Udienza del 9/01/2020 dott. Depalma
DESCRIPTION:Il ruolo di udienza è disponibile in allegato. \n\n		AllegatiUdienza del 9/01/2020 dott. Depalma (468.8 KB) 
URL:https://ordineavvocatifoggia.it/event/udienza-del-9-01-2020-dott-depalma/
CATEGORIES:Udienze
END:VEVENT
END:VCALENDAR