BEGIN:VCALENDAR
VERSION:2.0
PRODID:-//Ordine degli Avvocati di Foggia - ECPv4.9.10//NONSGML v1.0//EN
CALSCALE:GREGORIAN
METHOD:PUBLISH
X-WR-CALNAME:Ordine degli Avvocati di Foggia
X-ORIGINAL-URL:https://ordineavvocatifoggia.it
X-WR-CALDESC:Eventi per Ordine degli Avvocati di Foggia
BEGIN:VTIMEZONE
TZID:Europe/Rome
BEGIN:DAYLIGHT
TZOFFSETFROM:+0100
TZOFFSETTO:+0200
TZNAME:CEST
DTSTART:20230326T010000
END:DAYLIGHT
BEGIN:STANDARD
TZOFFSETFROM:+0200
TZOFFSETTO:+0100
TZNAME:CET
DTSTART:20231029T010000
END:STANDARD
END:VTIMEZONE
BEGIN:VEVENT
DTSTART;VALUE=DATE:20231108
DTEND;VALUE=DATE:20231109
DTSTAMP:20260422T080954
CREATED:20231106T131005Z
LAST-MODIFIED:20231106T131005Z
UID:39747-1699401600-1699487999@ordineavvocatifoggia.it
SUMMARY:Udienza del 8/11/2023 Ufficio di Sorveglianza di Bari
DESCRIPTION:Il provvedimento è allegato. \n\n        \n            Allegati\n        2023.11.08 Udienza Ufficio Sorveglianza Bari (602 kB)
URL:https://ordineavvocatifoggia.it/event/udienza-del-8-11-2023-ufficio-di-sorveglianza-di-bari/
CATEGORIES:Udienze
END:VEVENT
END:VCALENDAR