BEGIN:VCALENDAR
VERSION:2.0
PRODID:-//Ordine degli Avvocati di Foggia - ECPv4.9.10//NONSGML v1.0//EN
CALSCALE:GREGORIAN
METHOD:PUBLISH
X-WR-CALNAME:Ordine degli Avvocati di Foggia
X-ORIGINAL-URL:https://ordineavvocatifoggia.it
X-WR-CALDESC:Eventi per Ordine degli Avvocati di Foggia
BEGIN:VTIMEZONE
TZID:Europe/Rome
BEGIN:DAYLIGHT
TZOFFSETFROM:+0100
TZOFFSETTO:+0200
TZNAME:CEST
DTSTART:20230326T010000
END:DAYLIGHT
BEGIN:STANDARD
TZOFFSETFROM:+0200
TZOFFSETTO:+0100
TZNAME:CET
DTSTART:20231029T010000
END:STANDARD
END:VTIMEZONE
BEGIN:VEVENT
DTSTART;VALUE=DATE:20231005
DTEND;VALUE=DATE:20231006
DTSTAMP:20260424T190540
CREATED:20231004T142417Z
LAST-MODIFIED:20231004T142417Z
UID:39322-1696464000-1696550399@ordineavvocatifoggia.it
SUMMARY:Udienza del 5/10/2023 Giudice di Pace di Lucera Avv. Lufino
DESCRIPTION:Il ruolo è allegato. \n\n        \n            Allegati\n        2023.10.05 Udienza Lufino (2 MB)
URL:https://ordineavvocatifoggia.it/event/udienza-del-5-10-2023-giudice-di-pace-di-lucera-avv-lufino-2/
CATEGORIES:Udienze
END:VEVENT
END:VCALENDAR