BEGIN:VCALENDAR
VERSION:2.0
PRODID:-//Ordine degli Avvocati di Foggia - ECPv4.9.10//NONSGML v1.0//EN
CALSCALE:GREGORIAN
METHOD:PUBLISH
X-WR-CALNAME:Ordine degli Avvocati di Foggia
X-ORIGINAL-URL:https://ordineavvocatifoggia.it
X-WR-CALDESC:Eventi per Ordine degli Avvocati di Foggia
BEGIN:VTIMEZONE
TZID:Europe/Rome
BEGIN:DAYLIGHT
TZOFFSETFROM:+0100
TZOFFSETTO:+0200
TZNAME:CEST
DTSTART:20250330T010000
END:DAYLIGHT
BEGIN:STANDARD
TZOFFSETFROM:+0200
TZOFFSETTO:+0100
TZNAME:CET
DTSTART:20251026T010000
END:STANDARD
END:VTIMEZONE
BEGIN:VEVENT
DTSTART;VALUE=DATE:20250131
DTEND;VALUE=DATE:20250201
DTSTAMP:20260421T225749
CREATED:20250117T105044Z
LAST-MODIFIED:20250120T081321Z
UID:42684-1738281600-1738367999@ordineavvocatifoggia.it
SUMMARY:Udienza del 31/01/2025 e rinvii Giudice di Pace di Manfredonia dott. Capraro
DESCRIPTION:Il provvedimento è allegato. \n\n        \n            Allegati\n        UD 31-01-2025 (207 kB)
URL:https://ordineavvocatifoggia.it/event/udienza-del-31-01-2025-giudice-di-pace-di-manfredonia-dott-capraro/
CATEGORIES:Rinivii udienze,Udienze
END:VEVENT
END:VCALENDAR