BEGIN:VCALENDAR
VERSION:2.0
PRODID:-//Ordine degli Avvocati di Foggia - ECPv4.9.10//NONSGML v1.0//EN
CALSCALE:GREGORIAN
METHOD:PUBLISH
X-WR-CALNAME:Ordine degli Avvocati di Foggia
X-ORIGINAL-URL:https://ordineavvocatifoggia.it
X-WR-CALDESC:Eventi per Ordine degli Avvocati di Foggia
BEGIN:VTIMEZONE
TZID:Europe/Rome
BEGIN:DAYLIGHT
TZOFFSETFROM:+0100
TZOFFSETTO:+0200
TZNAME:CEST
DTSTART:20230326T010000
END:DAYLIGHT
BEGIN:STANDARD
TZOFFSETFROM:+0200
TZOFFSETTO:+0100
TZNAME:CET
DTSTART:20231029T010000
END:STANDARD
END:VTIMEZONE
BEGIN:VEVENT
DTSTART;VALUE=DATE:20231025
DTEND;VALUE=DATE:20231026
DTSTAMP:20260422T113323
CREATED:20231024T133359Z
LAST-MODIFIED:20231024T133359Z
UID:39662-1698192000-1698278399@ordineavvocatifoggia.it
SUMMARY:Udienza del 25/10/2023 Corte di Appello di Bari Sezione specializzata agraria
DESCRIPTION:Il provvedimento è allegato. \n\n        \n            Allegati\n        decreto pres. agraria 25-10-23 (187 kB)
URL:https://ordineavvocatifoggia.it/event/udienza-del-25-10-2023-corte-di-appello-di-bari-sezione-specializzata-agraria/
CATEGORIES:Udienze
END:VEVENT
END:VCALENDAR