BEGIN:VCALENDAR
VERSION:2.0
PRODID:-//Ordine degli Avvocati di Foggia - ECPv4.9.10//NONSGML v1.0//EN
CALSCALE:GREGORIAN
METHOD:PUBLISH
X-WR-CALNAME:Ordine degli Avvocati di Foggia
X-ORIGINAL-URL:https://ordineavvocatifoggia.it
X-WR-CALDESC:Eventi per Ordine degli Avvocati di Foggia
BEGIN:VTIMEZONE
TZID:Europe/Rome
BEGIN:DAYLIGHT
TZOFFSETFROM:+0100
TZOFFSETTO:+0200
TZNAME:CEST
DTSTART:20240331T010000
END:DAYLIGHT
BEGIN:STANDARD
TZOFFSETFROM:+0200
TZOFFSETTO:+0100
TZNAME:CET
DTSTART:20241027T010000
END:STANDARD
END:VTIMEZONE
BEGIN:VEVENT
DTSTART;VALUE=DATE:20240125
DTEND;VALUE=DATE:20240126
DTSTAMP:20260421T090106
CREATED:20240119T155529Z
LAST-MODIFIED:20240119T155529Z
UID:40279-1706140800-1706227199@ordineavvocatifoggia.it
SUMMARY:Udienza del 25/1/2024 Tribunale di Foggia S.L. dott.ssa Rosa Rella in sostituzione del dott. Mario De Simone
DESCRIPTION:Il provvedimento è allegato. \n\n        \n            Allegati\n        SOSTITUZIONE (40 kB)
URL:https://ordineavvocatifoggia.it/event/udienza-del-25-1-2024-tribunale-di-foggia-s-l-dott-ssa-rosa-rella-in-sostituzione-del-dott-mario-de-simone/
CATEGORIES:Udienze
END:VEVENT
END:VCALENDAR