BEGIN:VCALENDAR
VERSION:2.0
PRODID:-//Ordine degli Avvocati di Foggia - ECPv4.9.10//NONSGML v1.0//EN
CALSCALE:GREGORIAN
METHOD:PUBLISH
X-WR-CALNAME:Ordine degli Avvocati di Foggia
X-ORIGINAL-URL:https://ordineavvocatifoggia.it
X-WR-CALDESC:Eventi per Ordine degli Avvocati di Foggia
BEGIN:VTIMEZONE
TZID:Europe/Rome
BEGIN:DAYLIGHT
TZOFFSETFROM:+0100
TZOFFSETTO:+0200
TZNAME:CEST
DTSTART:20210328T010000
END:DAYLIGHT
BEGIN:STANDARD
TZOFFSETFROM:+0200
TZOFFSETTO:+0100
TZNAME:CET
DTSTART:20211031T010000
END:STANDARD
END:VTIMEZONE
BEGIN:VEVENT
DTSTART;VALUE=DATE:20210723
DTEND;VALUE=DATE:20210724
DTSTAMP:20260422T174708
CREATED:20210717T143715Z
LAST-MODIFIED:20210717T143715Z
UID:29525-1626998400-1627084799@ordineavvocatifoggia.it
SUMMARY:Udienza del 23/7/2021 Giudice di Pace di Lucera Avv. Filograno
DESCRIPTION:I provvedimenti sono allegati. \n\n		Allegati2021-07-23 udienza filograno_01 (88.3 KB) 2021-07-23 udienza filograno_02 (85.9 KB) 
URL:https://ordineavvocatifoggia.it/event/udienza-del-23-7-2021-giudice-di-pace-di-lucera-avv-filograno/
CATEGORIES:Udienze
END:VEVENT
END:VCALENDAR