BEGIN:VCALENDAR
VERSION:2.0
PRODID:-//Ordine degli Avvocati di Foggia - ECPv4.9.10//NONSGML v1.0//EN
CALSCALE:GREGORIAN
METHOD:PUBLISH
X-WR-CALNAME:Ordine degli Avvocati di Foggia
X-ORIGINAL-URL:https://ordineavvocatifoggia.it
X-WR-CALDESC:Eventi per Ordine degli Avvocati di Foggia
BEGIN:VTIMEZONE
TZID:Europe/Rome
BEGIN:DAYLIGHT
TZOFFSETFROM:+0100
TZOFFSETTO:+0200
TZNAME:CEST
DTSTART:20250330T010000
END:DAYLIGHT
BEGIN:STANDARD
TZOFFSETFROM:+0200
TZOFFSETTO:+0100
TZNAME:CET
DTSTART:20251026T010000
END:STANDARD
END:VTIMEZONE
BEGIN:VEVENT
DTSTART;VALUE=DATE:20250320
DTEND;VALUE=DATE:20250321
DTSTAMP:20260422T104751
CREATED:20250318T103909Z
LAST-MODIFIED:20250318T103909Z
UID:43235-1742428800-1742515199@ordineavvocatifoggia.it
SUMMARY:Udienza del 20/03/2025 Tribunale di Sorveglianza di Bari
DESCRIPTION:Il provvedimento è allegato. \n\n        \n            Allegati\n        2025.03.20 Udienza Tribunale Sorveglianza Bari (534 kB)
URL:https://ordineavvocatifoggia.it/event/udienza-del-20-03-2025-tribunale-di-sorveglianza-di-bari/
CATEGORIES:Udienze
END:VEVENT
END:VCALENDAR