BEGIN:VCALENDAR
VERSION:2.0
PRODID:-//Ordine degli Avvocati di Foggia - ECPv4.9.10//NONSGML v1.0//EN
CALSCALE:GREGORIAN
METHOD:PUBLISH
X-WR-CALNAME:Ordine degli Avvocati di Foggia
X-ORIGINAL-URL:https://ordineavvocatifoggia.it
X-WR-CALDESC:Eventi per Ordine degli Avvocati di Foggia
BEGIN:VTIMEZONE
TZID:Europe/Rome
BEGIN:DAYLIGHT
TZOFFSETFROM:+0100
TZOFFSETTO:+0200
TZNAME:CEST
DTSTART:20240331T010000
END:DAYLIGHT
BEGIN:STANDARD
TZOFFSETFROM:+0200
TZOFFSETTO:+0100
TZNAME:CET
DTSTART:20241027T010000
END:STANDARD
END:VTIMEZONE
BEGIN:VEVENT
DTSTART;VALUE=DATE:20240417
DTEND;VALUE=DATE:20240418
DTSTAMP:20260422T042129
CREATED:20240314T100947Z
LAST-MODIFIED:20240314T100947Z
UID:40725-1713312000-1713398399@ordineavvocatifoggia.it
SUMMARY:Udienza del 17/3/2024 Corte di Appello di Bari Terza Sez. Civ.
DESCRIPTION:Il provvedimento è allegato. \n\n        \n            Allegati\n        decreto pres. udienza del 17-4-24 (186 kB)
URL:https://ordineavvocatifoggia.it/event/udienza-del-17-3-2024-corte-di-appello-di-bari-terza-sez-civ/
CATEGORIES:Udienze
END:VEVENT
END:VCALENDAR