BEGIN:VCALENDAR
VERSION:2.0
PRODID:-//Ordine degli Avvocati di Foggia - ECPv4.9.10//NONSGML v1.0//EN
CALSCALE:GREGORIAN
METHOD:PUBLISH
X-WR-CALNAME:Ordine degli Avvocati di Foggia
X-ORIGINAL-URL:https://ordineavvocatifoggia.it
X-WR-CALDESC:Eventi per Ordine degli Avvocati di Foggia
BEGIN:VTIMEZONE
TZID:Europe/Rome
BEGIN:DAYLIGHT
TZOFFSETFROM:+0100
TZOFFSETTO:+0200
TZNAME:CEST
DTSTART:20210328T010000
END:DAYLIGHT
BEGIN:STANDARD
TZOFFSETFROM:+0200
TZOFFSETTO:+0100
TZNAME:CET
DTSTART:20211031T010000
END:STANDARD
END:VTIMEZONE
BEGIN:VEVENT
DTSTART;VALUE=DATE:20210514
DTEND;VALUE=DATE:20210515
DTSTAMP:20260423T121810
CREATED:20210418T061933Z
LAST-MODIFIED:20210418T061933Z
UID:27867-1620950400-1621036799@ordineavvocatifoggia.it
SUMMARY:Udienza del 14/5/2021 e rinvio Giudice di Pace di Cerignola Avv. Fusaro
DESCRIPTION:Il provvedimento e l’avviso sono allegati. \n\n		Allegati2021-05-14 udienza fusaro e rinvio (39.4 KB) rinvii maggio fusaro (59.4 KB) 
URL:https://ordineavvocatifoggia.it/event/udienza-del-14-5-2021-e-rinvio-giudice-di-pace-di-cerignola-avv-fusaro/
CATEGORIES:Rinivii udienze,Udienze
END:VEVENT
END:VCALENDAR