BEGIN:VCALENDAR
VERSION:2.0
PRODID:-//Ordine degli Avvocati di Foggia - ECPv4.9.10//NONSGML v1.0//EN
CALSCALE:GREGORIAN
METHOD:PUBLISH
X-WR-CALNAME:Ordine degli Avvocati di Foggia
X-ORIGINAL-URL:https://ordineavvocatifoggia.it
X-WR-CALDESC:Eventi per Ordine degli Avvocati di Foggia
BEGIN:VTIMEZONE
TZID:Europe/Rome
BEGIN:DAYLIGHT
TZOFFSETFROM:+0100
TZOFFSETTO:+0200
TZNAME:CEST
DTSTART:20240331T010000
END:DAYLIGHT
BEGIN:STANDARD
TZOFFSETFROM:+0200
TZOFFSETTO:+0100
TZNAME:CET
DTSTART:20241027T010000
END:STANDARD
END:VTIMEZONE
BEGIN:VEVENT
DTSTART;VALUE=DATE:20241213
DTEND;VALUE=DATE:20241214
DTSTAMP:20260425T172557
CREATED:20241207T113402Z
LAST-MODIFIED:20241207T113402Z
UID:42476-1734048000-1734134399@ordineavvocatifoggia.it
SUMMARY:Udienza del 13/12/2024 Giudice di Pace di Lucera dott.ssa Ferrigni
DESCRIPTION:Il ruolo di udienza è disponibile in allegato. \n\n        \n            Allegati\n        2024.12.13 Udienza Ferrigni (810 kB)
URL:https://ordineavvocatifoggia.it/event/udienza-del-13-12-2024-giudice-di-pace-di-lucera-dott-ssa-ferrigni/
CATEGORIES:Udienze
END:VEVENT
END:VCALENDAR