BEGIN:VCALENDAR
VERSION:2.0
PRODID:-//Ordine degli Avvocati di Foggia - ECPv4.9.10//NONSGML v1.0//EN
CALSCALE:GREGORIAN
METHOD:PUBLISH
X-WR-CALNAME:Ordine degli Avvocati di Foggia
X-ORIGINAL-URL:https://ordineavvocatifoggia.it
X-WR-CALDESC:Eventi per Ordine degli Avvocati di Foggia
BEGIN:VTIMEZONE
TZID:Europe/Rome
BEGIN:DAYLIGHT
TZOFFSETFROM:+0100
TZOFFSETTO:+0200
TZNAME:CEST
DTSTART:20230326T010000
END:DAYLIGHT
BEGIN:STANDARD
TZOFFSETFROM:+0200
TZOFFSETTO:+0100
TZNAME:CET
DTSTART:20231029T010000
END:STANDARD
END:VTIMEZONE
BEGIN:VEVENT
DTSTART;VALUE=DATE:20231212
DTEND;VALUE=DATE:20231213
DTSTAMP:20260421T204431
CREATED:20231207T131945Z
LAST-MODIFIED:20231207T131945Z
UID:40038-1702339200-1702425599@ordineavvocatifoggia.it
SUMMARY:Udienza del 12/12/2023 Giudice di Pace di Lucera dott. Di Lella
DESCRIPTION:Il ruolo è allegato. \n\n        \n            Allegati\n        2023.12.12. Udienza Di Lella (545 kB)
URL:https://ordineavvocatifoggia.it/event/udienza-del-12-12-2023-giudice-di-pace-di-lucera-dott-di-lella/
CATEGORIES:Udienze
END:VEVENT
END:VCALENDAR