BEGIN:VCALENDAR
VERSION:2.0
PRODID:-//Ordine degli Avvocati di Foggia - ECPv4.9.10//NONSGML v1.0//EN
CALSCALE:GREGORIAN
METHOD:PUBLISH
X-WR-CALNAME:Ordine degli Avvocati di Foggia
X-ORIGINAL-URL:https://ordineavvocatifoggia.it
X-WR-CALDESC:Eventi per Ordine degli Avvocati di Foggia
BEGIN:VTIMEZONE
TZID:Europe/Rome
BEGIN:DAYLIGHT
TZOFFSETFROM:+0100
TZOFFSETTO:+0200
TZNAME:CEST
DTSTART:20230326T010000
END:DAYLIGHT
BEGIN:STANDARD
TZOFFSETFROM:+0200
TZOFFSETTO:+0100
TZNAME:CET
DTSTART:20231029T010000
END:STANDARD
END:VTIMEZONE
BEGIN:VEVENT
DTSTART;TZID=Europe/Rome:20231010T100000
DTEND;TZID=Europe/Rome:20231010T110000
DTSTAMP:20260424T164142
CREATED:20230926T135909Z
LAST-MODIFIED:20230926T135909Z
UID:39233-1696932000-1696935600@ordineavvocatifoggia.it
SUMMARY:Sportello Comitato Pari Opportunità - ottobre 2023
DESCRIPTION:L’avviso è allegato. \n\n        \n            Allegati\n        IMG (177 kB)
URL:https://ordineavvocatifoggia.it/event/sportello-comitato-pari-opportunita-ottobre-2023/
LOCATION:Sala Avvocati\, Viale primo maggio - Palazzo di Giustizia\, Foggia\, 71122\, Italia
CATEGORIES:Sportello PO
END:VEVENT
END:VCALENDAR