BEGIN:VCALENDAR
VERSION:2.0
PRODID:-//Ordine degli Avvocati di Foggia - ECPv4.9.10//NONSGML v1.0//EN
CALSCALE:GREGORIAN
METHOD:PUBLISH
X-WR-CALNAME:Ordine degli Avvocati di Foggia
X-ORIGINAL-URL:https://ordineavvocatifoggia.it
X-WR-CALDESC:Eventi per Ordine degli Avvocati di Foggia
BEGIN:VTIMEZONE
TZID:Europe/Rome
BEGIN:DAYLIGHT
TZOFFSETFROM:+0100
TZOFFSETTO:+0200
TZNAME:CEST
DTSTART:20230326T010000
END:DAYLIGHT
BEGIN:STANDARD
TZOFFSETFROM:+0200
TZOFFSETTO:+0100
TZNAME:CET
DTSTART:20231029T010000
END:STANDARD
END:VTIMEZONE
BEGIN:VEVENT
DTSTART;TZID=Europe/Rome:20230619T103000
DTEND;TZID=Europe/Rome:20230619T113000
DTSTAMP:20260425T162529
CREATED:20230608T201541Z
LAST-MODIFIED:20230608T201541Z
UID:38515-1687170600-1687174200@ordineavvocatifoggia.it
SUMMARY:Sportello Comitato Pari Opportunità - giugno 2023
DESCRIPTION:Si veda la nota allegata. \n\n        \n            Allegati\n        IMG_0004 (177 kB)
URL:https://ordineavvocatifoggia.it/event/sportello-comitato-pari-opportunita-giugno-2023/
LOCATION:Sala Avvocati\, Viale primo maggio - Palazzo di Giustizia\, Foggia\, 71122\, Italia
CATEGORIES:Sportello PO
END:VEVENT
END:VCALENDAR