BEGIN:VCALENDAR
VERSION:2.0
PRODID:-//Ordine degli Avvocati di Foggia - ECPv4.9.10//NONSGML v1.0//EN
CALSCALE:GREGORIAN
METHOD:PUBLISH
X-WR-CALNAME:Ordine degli Avvocati di Foggia
X-ORIGINAL-URL:https://ordineavvocatifoggia.it
X-WR-CALDESC:Eventi per Ordine degli Avvocati di Foggia
BEGIN:VTIMEZONE
TZID:Europe/Rome
BEGIN:DAYLIGHT
TZOFFSETFROM:+0100
TZOFFSETTO:+0200
TZNAME:CEST
DTSTART:20150329T010000
END:DAYLIGHT
BEGIN:STANDARD
TZOFFSETFROM:+0200
TZOFFSETTO:+0100
TZNAME:CET
DTSTART:20151025T010000
END:STANDARD
END:VTIMEZONE
BEGIN:VEVENT
DTSTART;TZID=Europe/Rome:20151121T150000
DTEND;TZID=Europe/Rome:20151121T190000
DTSTAMP:20260421T174224
CREATED:20151019T144148Z
LAST-MODIFIED:20151019T144148Z
UID:7703-1448118000-1448132400@ordineavvocatifoggia.it
SUMMARY:Seminario Associazione LISIA
DESCRIPTION:Il seminario sarà su:\nLa pseudo obbligatorietà dell’azione penale\n– L’iscrizione della notizia di reato e le sue patologie : 1. Premessa ed impostazione costituzionale e giurisprudenziali di legittimità. 2. Il ruolo del Pubblico Ministero. 3. Il registro delle notizie di reato. 4. La Sent. Cass. pen.\, ss.uu.\, n. 40538/2009. ;\n– Il Potere di avocazione delle indagini del Procuratore generale presso la Corte di appello alla luce della normativa processuale e della Delibera n. P-97-13159 del 18 luglio 1997 del CSM;\n– Rimedi esperibili dalle parti qualora il PM iscriva erroneamente una notizia di reato come pseudo notizia di reato e come tale la cestini alla luce di Cassazione Penale Sezioni Unite 11.07.2001 nr. 34536.\n– Sulla legittimità o meno dell’affidamento\, in via diretta\, da parte dei Comuni \,di contratti di servizi e forniture nei settori ordinari \, del Rinnovo dell’incarico \, della Proroga \, a soggetti qualificabili a loro volta come amministrazioni aggiudicatrici\, ma al contempo come operatori economici \,alla luce della Direttiva 2004/18/CE\, dell’ Ordinanza del 16 maggio 2013\,Causa n. C-564/11\, Corte di Giustizia UE\, della Sentenza del Consiglio di Stato – sez. V \, del 23 giugno 2014 n. 3130;\n– Fluttuazioni cicliche della Giurisprudenza della Suprema Corte (Ultimissime)\nRelatori : Dr. Maria Giuseppina Gravina \, Sost. Proc. Del Tribunale di Foggia ;Avv Giulio Treggiari del Foro di Foggia\, Ing.Luigi Pompilio \, Sindaco del Comune di San Giovanni Rotondo\, Avv. Nicola Martino del Foro di Foggia;Ing. Leonardo Mischitelli. \n
URL:https://ordineavvocatifoggia.it/event/seminario-associazione-lisia-5/
CATEGORIES:Eventi Formativi
END:VEVENT
END:VCALENDAR