BEGIN:VCALENDAR
VERSION:2.0
PRODID:-//Ordine degli Avvocati di Foggia - ECPv4.9.10//NONSGML v1.0//EN
CALSCALE:GREGORIAN
METHOD:PUBLISH
X-WR-CALNAME:Ordine degli Avvocati di Foggia
X-ORIGINAL-URL:https://ordineavvocatifoggia.it
X-WR-CALDESC:Eventi per Ordine degli Avvocati di Foggia
BEGIN:VTIMEZONE
TZID:Europe/Rome
BEGIN:DAYLIGHT
TZOFFSETFROM:+0100
TZOFFSETTO:+0200
TZNAME:CEST
DTSTART:20150329T010000
END:DAYLIGHT
BEGIN:STANDARD
TZOFFSETFROM:+0200
TZOFFSETTO:+0100
TZNAME:CET
DTSTART:20151025T010000
END:STANDARD
END:VTIMEZONE
BEGIN:VEVENT
DTSTART;VALUE=DATE:20150722
DTEND;VALUE=DATE:20150723
DTSTAMP:20260422T163642
CREATED:20150716T145323Z
LAST-MODIFIED:20150716T145323Z
UID:7343-1437523200-1437609599@ordineavvocatifoggia.it
SUMMARY:Rinvio udienze Giudice di Pace di Cerignola
DESCRIPTION:Le udienze sono rinviate come segue:\navv. Gaetano Sciannamea\nL’udienza del 22.07.2015 è rinviata di ufficio al 04.09.2015\navv. Tiziana Brunetti\nL’udienza del 22.07.2015 è rinviata di ufficio al 21.10.2015\navv. Lucia Fusaro\nL’udienza del 22.07.2015 è rinviata di ufficio al 21.10.2015\n  \n
URL:https://ordineavvocatifoggia.it/event/rinvio-udienze-giudice-di-pace-di-cerignola-4/
CATEGORIES:Rinivii udienze
END:VEVENT
END:VCALENDAR