BEGIN:VCALENDAR
VERSION:2.0
PRODID:-//Ordine degli Avvocati di Foggia - ECPv4.9.10//NONSGML v1.0//EN
CALSCALE:GREGORIAN
METHOD:PUBLISH
X-WR-CALNAME:Ordine degli Avvocati di Foggia
X-ORIGINAL-URL:https://ordineavvocatifoggia.it
X-WR-CALDESC:Eventi per Ordine degli Avvocati di Foggia
BEGIN:VTIMEZONE
TZID:Europe/Rome
BEGIN:DAYLIGHT
TZOFFSETFROM:+0100
TZOFFSETTO:+0200
TZNAME:CEST
DTSTART:20150329T010000
END:DAYLIGHT
BEGIN:STANDARD
TZOFFSETFROM:+0200
TZOFFSETTO:+0100
TZNAME:CET
DTSTART:20151025T010000
END:STANDARD
END:VTIMEZONE
BEGIN:VEVENT
DTSTART;TZID=Europe/Rome:20150407T090000
DTEND;TZID=Europe/Rome:20150407T120000
DTSTAMP:20260422T160043
CREATED:20150331T061055Z
LAST-MODIFIED:20150331T061055Z
UID:6639-1428397200-1428408000@ordineavvocatifoggia.it
SUMMARY:Rinvio udienza GdP Lucera
DESCRIPTION:\n		Allegatirinvio_gdp_lucera_07042015 (67.9 KB) 
URL:https://ordineavvocatifoggia.it/event/rinvio-udienza-gdp-lucera/
CATEGORIES:Rinivii udienze
END:VEVENT
END:VCALENDAR