BEGIN:VCALENDAR
VERSION:2.0
PRODID:-//Ordine degli Avvocati di Foggia - ECPv4.9.10//NONSGML v1.0//EN
CALSCALE:GREGORIAN
METHOD:PUBLISH
X-WR-CALNAME:Ordine degli Avvocati di Foggia
X-ORIGINAL-URL:https://ordineavvocatifoggia.it
X-WR-CALDESC:Eventi per Ordine degli Avvocati di Foggia
BEGIN:VTIMEZONE
TZID:Europe/Rome
BEGIN:DAYLIGHT
TZOFFSETFROM:+0100
TZOFFSETTO:+0200
TZNAME:CEST
DTSTART:20150329T010000
END:DAYLIGHT
BEGIN:STANDARD
TZOFFSETFROM:+0200
TZOFFSETTO:+0100
TZNAME:CET
DTSTART:20151025T010000
END:STANDARD
END:VTIMEZONE
BEGIN:VEVENT
DTSTART;VALUE=DATE:20150722
DTEND;VALUE=DATE:20150723
DTSTAMP:20260422T162538
CREATED:20150728T140611Z
LAST-MODIFIED:20150728T140611Z
UID:7352-1437523200-1437609599@ordineavvocatifoggia.it
SUMMARY:Rinvio udienza esecuzioni immobiliari dott.ssa La Battaglia
DESCRIPTION:L’udienza è rinviata al 16/9/2015. \n
URL:https://ordineavvocatifoggia.it/event/rinvio-udienza-esecuzioni-immobiliari-dott-ssa-la-battaglia/
CATEGORIES:Rinivii udienze
END:VEVENT
END:VCALENDAR