BEGIN:VCALENDAR
VERSION:2.0
PRODID:-//Ordine degli Avvocati di Foggia - ECPv4.9.10//NONSGML v1.0//EN
CALSCALE:GREGORIAN
METHOD:PUBLISH
X-WR-CALNAME:Ordine degli Avvocati di Foggia
X-ORIGINAL-URL:https://ordineavvocatifoggia.it
X-WR-CALDESC:Eventi per Ordine degli Avvocati di Foggia
BEGIN:VTIMEZONE
TZID:Europe/Rome
BEGIN:DAYLIGHT
TZOFFSETFROM:+0100
TZOFFSETTO:+0200
TZNAME:CEST
DTSTART:20150329T010000
END:DAYLIGHT
BEGIN:STANDARD
TZOFFSETFROM:+0200
TZOFFSETTO:+0100
TZNAME:CET
DTSTART:20151025T010000
END:STANDARD
END:VTIMEZONE
BEGIN:VEVENT
DTSTART;VALUE=DATE:20150529
DTEND;VALUE=DATE:20150530
DTSTAMP:20260422T081935
CREATED:20150518T053027Z
LAST-MODIFIED:20150518T053027Z
UID:7049-1432857600-1432943999@ordineavvocatifoggia.it
SUMMARY:Rinvio udienza dott.ssa Sala
DESCRIPTION:L’udienza è rinviata al 7/9/2015 come da avviso allegato. \n\n		AllegatiRinvio udienze dott.ssa Sala (274.4 KB) 
URL:https://ordineavvocatifoggia.it/event/rinvio-udienza-dott-ssa-sala-5/
CATEGORIES:Rinivii udienze
END:VEVENT
END:VCALENDAR