BEGIN:VCALENDAR
VERSION:2.0
PRODID:-//Ordine degli Avvocati di Foggia - ECPv4.9.10//NONSGML v1.0//EN
CALSCALE:GREGORIAN
METHOD:PUBLISH
X-WR-CALNAME:Ordine degli Avvocati di Foggia
X-ORIGINAL-URL:https://ordineavvocatifoggia.it
X-WR-CALDESC:Eventi per Ordine degli Avvocati di Foggia
BEGIN:VTIMEZONE
TZID:Europe/Rome
BEGIN:DAYLIGHT
TZOFFSETFROM:+0100
TZOFFSETTO:+0200
TZNAME:CEST
DTSTART:20150329T010000
END:DAYLIGHT
BEGIN:STANDARD
TZOFFSETFROM:+0200
TZOFFSETTO:+0100
TZNAME:CET
DTSTART:20151025T010000
END:STANDARD
END:VTIMEZONE
BEGIN:VEVENT
DTSTART;VALUE=DATE:20150922
DTEND;VALUE=DATE:20150923
DTSTAMP:20260422T102819
CREATED:20150921T112648Z
LAST-MODIFIED:20150921T112648Z
UID:7524-1442880000-1442966399@ordineavvocatifoggia.it
SUMMARY:Rinvio udienza dott.ssa Ricucci (ex ruolo dott.ssa Agostinacchio)
DESCRIPTION:L’udienza è rinviata al 17/11/2015 come da avviso allegato. \n\n		AllegatiRinvio udienza dott.ssa Ricucci (ex ruolo dott.ssa Agostinacchio) (128.1 KB) 
URL:https://ordineavvocatifoggia.it/event/rinvio-udienza-dott-ssa-ricucci-ex-ruolo-dott-ssa-agostinacchio/
CATEGORIES:Rinivii udienze
END:VEVENT
END:VCALENDAR