BEGIN:VCALENDAR
VERSION:2.0
PRODID:-//Ordine degli Avvocati di Foggia - ECPv4.9.10//NONSGML v1.0//EN
CALSCALE:GREGORIAN
METHOD:PUBLISH
X-WR-CALNAME:Ordine degli Avvocati di Foggia
X-ORIGINAL-URL:https://ordineavvocatifoggia.it
X-WR-CALDESC:Eventi per Ordine degli Avvocati di Foggia
BEGIN:VTIMEZONE
TZID:Europe/Rome
BEGIN:DAYLIGHT
TZOFFSETFROM:+0100
TZOFFSETTO:+0200
TZNAME:CEST
DTSTART:20150329T010000
END:DAYLIGHT
BEGIN:STANDARD
TZOFFSETFROM:+0200
TZOFFSETTO:+0100
TZNAME:CET
DTSTART:20151025T010000
END:STANDARD
END:VTIMEZONE
BEGIN:VEVENT
DTSTART;VALUE=DATE:20151119
DTEND;VALUE=DATE:20151120
DTSTAMP:20260421T210311
CREATED:20150917T132547Z
LAST-MODIFIED:20150917T132547Z
UID:7498-1447891200-1447977599@ordineavvocatifoggia.it
SUMMARY:Rinvio udienza dott. del Vecchio
DESCRIPTION:L’udienza è rinviata al 20/11/2015 come da avviso disponibile in allegato. \n\n		AllegatiRinvio udienza dott. del Vecchio (1.3 MB) 
URL:https://ordineavvocatifoggia.it/event/rinvio-udienza-dott-del-vecchio-27/
CATEGORIES:Rinivii udienze
END:VEVENT
END:VCALENDAR