BEGIN:VCALENDAR
VERSION:2.0
PRODID:-//Ordine degli Avvocati di Foggia - ECPv4.9.10//NONSGML v1.0//EN
CALSCALE:GREGORIAN
METHOD:PUBLISH
X-WR-CALNAME:Ordine degli Avvocati di Foggia
X-ORIGINAL-URL:https://ordineavvocatifoggia.it
X-WR-CALDESC:Eventi per Ordine degli Avvocati di Foggia
BEGIN:VTIMEZONE
TZID:Europe/Rome
BEGIN:DAYLIGHT
TZOFFSETFROM:+0100
TZOFFSETTO:+0200
TZNAME:CEST
DTSTART:20210328T010000
END:DAYLIGHT
BEGIN:STANDARD
TZOFFSETFROM:+0200
TZOFFSETTO:+0100
TZNAME:CET
DTSTART:20211031T010000
END:STANDARD
END:VTIMEZONE
BEGIN:VEVENT
DTSTART;VALUE=DATE:20210607
DTEND;VALUE=DATE:20210608
DTSTAMP:20260424T140837
CREATED:20210525T130322Z
LAST-MODIFIED:20210525T130322Z
UID:28663-1623024000-1623110399@ordineavvocatifoggia.it
SUMMARY:Rinvio udienza del 7/6/2021 Giudice di Pace di San Severo dott.ssa Russo
DESCRIPTION:L’udienza è rinviata d’ufficio come da provvedimento allegato. \n\n		Allegati2021-06-07 rinvio udienza russo (321.2 KB) 
URL:https://ordineavvocatifoggia.it/event/rinvio-udienza-del-7-6-2021-giudice-di-pace-di-san-severo-dott-ssa-russo/
CATEGORIES:Rinivii udienze
END:VEVENT
END:VCALENDAR