BEGIN:VCALENDAR
VERSION:2.0
PRODID:-//Ordine degli Avvocati di Foggia - ECPv4.9.10//NONSGML v1.0//EN
CALSCALE:GREGORIAN
METHOD:PUBLISH
X-WR-CALNAME:Ordine degli Avvocati di Foggia
X-ORIGINAL-URL:https://ordineavvocatifoggia.it
X-WR-CALDESC:Eventi per Ordine degli Avvocati di Foggia
BEGIN:VTIMEZONE
TZID:Europe/Rome
BEGIN:DAYLIGHT
TZOFFSETFROM:+0100
TZOFFSETTO:+0200
TZNAME:CEST
DTSTART:20230326T010000
END:DAYLIGHT
BEGIN:STANDARD
TZOFFSETFROM:+0200
TZOFFSETTO:+0100
TZNAME:CET
DTSTART:20231029T010000
END:STANDARD
END:VTIMEZONE
BEGIN:VEVENT
DTSTART;VALUE=DATE:20231206
DTEND;VALUE=DATE:20231207
DTSTAMP:20260421T223105
CREATED:20231205T182951Z
LAST-MODIFIED:20231205T182951Z
UID:40014-1701820800-1701907199@ordineavvocatifoggia.it
SUMMARY:Rinvio udienza del 6/12/2023 Giudice di Pace di Cerignola Avv. Brunetti
DESCRIPTION:L’udienza è rinviata d’ufficio al giorno 20/3/2024 come da avviso allegato. \n\n        \n            Allegati\n        RINVII UDIENZE CIVILI GDP BRUNETTI 06-13-15 DICEMBRE 2023 (41 kB)
URL:https://ordineavvocatifoggia.it/event/rinvio-udienza-del-6-12-2023-giudice-di-pace-di-cerignola-avv-brunetti/
CATEGORIES:Rinivii udienze
END:VEVENT
END:VCALENDAR