BEGIN:VCALENDAR
VERSION:2.0
PRODID:-//Ordine degli Avvocati di Foggia - ECPv4.9.10//NONSGML v1.0//EN
CALSCALE:GREGORIAN
METHOD:PUBLISH
X-WR-CALNAME:Ordine degli Avvocati di Foggia
X-ORIGINAL-URL:https://ordineavvocatifoggia.it
X-WR-CALDESC:Eventi per Ordine degli Avvocati di Foggia
BEGIN:VTIMEZONE
TZID:Europe/Rome
BEGIN:DAYLIGHT
TZOFFSETFROM:+0100
TZOFFSETTO:+0200
TZNAME:CEST
DTSTART:20190331T010000
END:DAYLIGHT
BEGIN:STANDARD
TZOFFSETFROM:+0200
TZOFFSETTO:+0100
TZNAME:CET
DTSTART:20191027T010000
END:STANDARD
END:VTIMEZONE
BEGIN:VEVENT
DTSTART;VALUE=DATE:20191128
DTEND;VALUE=DATE:20191129
DTSTAMP:20260421T232902
CREATED:20191125T191824Z
LAST-MODIFIED:20191125T191824Z
UID:15539-1574899200-1574985599@ordineavvocatifoggia.it
SUMMARY:Rinvio udienza del 28/11/2019 Giudice di Pace di San Severo dott. Capraro
DESCRIPTION:L’udienza è rinviata d’ufficio al giorno 19/12/2019. \n
URL:https://ordineavvocatifoggia.it/event/rinvio-udienza-del-28-11-2019-giudice-di-pace-di-san-severo-dott-capraro/
CATEGORIES:Rinivii udienze
END:VEVENT
END:VCALENDAR