BEGIN:VCALENDAR
VERSION:2.0
PRODID:-//Ordine degli Avvocati di Foggia - ECPv4.9.10//NONSGML v1.0//EN
CALSCALE:GREGORIAN
METHOD:PUBLISH
X-WR-CALNAME:Ordine degli Avvocati di Foggia
X-ORIGINAL-URL:https://ordineavvocatifoggia.it
X-WR-CALDESC:Eventi per Ordine degli Avvocati di Foggia
BEGIN:VTIMEZONE
TZID:Europe/Rome
BEGIN:DAYLIGHT
TZOFFSETFROM:+0100
TZOFFSETTO:+0200
TZNAME:CEST
DTSTART:20230326T010000
END:DAYLIGHT
BEGIN:STANDARD
TZOFFSETFROM:+0200
TZOFFSETTO:+0100
TZNAME:CET
DTSTART:20231029T010000
END:STANDARD
END:VTIMEZONE
BEGIN:VEVENT
DTSTART;VALUE=DATE:20231026
DTEND;VALUE=DATE:20231027
DTSTAMP:20260422T093244
CREATED:20231024T133520Z
LAST-MODIFIED:20231024T133520Z
UID:39665-1698278400-1698364799@ordineavvocatifoggia.it
SUMMARY:Rinvio udienza del 26/10/2023 Giudice di Pace di Foggia dott.ssa Rocco
DESCRIPTION:L’udienza è rinviata d’ufficio al giorno 14/11/2023 come da provvedimento allegato. \n\n        \n            Allegati\n        udienza del gdp Rocco del 26-10-23 (76 kB)
URL:https://ordineavvocatifoggia.it/event/rinvio-udienza-del-26-10-2023-giudice-di-pace-di-foggia-dott-ssa-rocco/
CATEGORIES:Rinivii udienze
END:VEVENT
END:VCALENDAR