BEGIN:VCALENDAR
VERSION:2.0
PRODID:-//Ordine degli Avvocati di Foggia - ECPv4.9.10//NONSGML v1.0//EN
CALSCALE:GREGORIAN
METHOD:PUBLISH
X-WR-CALNAME:Ordine degli Avvocati di Foggia
X-ORIGINAL-URL:https://ordineavvocatifoggia.it
X-WR-CALDESC:Eventi per Ordine degli Avvocati di Foggia
BEGIN:VTIMEZONE
TZID:Europe/Rome
BEGIN:DAYLIGHT
TZOFFSETFROM:+0100
TZOFFSETTO:+0200
TZNAME:CEST
DTSTART:20250330T010000
END:DAYLIGHT
BEGIN:STANDARD
TZOFFSETFROM:+0200
TZOFFSETTO:+0100
TZNAME:CET
DTSTART:20251026T010000
END:STANDARD
END:VTIMEZONE
BEGIN:VEVENT
DTSTART;VALUE=DATE:20250926
DTEND;VALUE=DATE:20250927
DTSTAMP:20260425T031635
CREATED:20250909T100038Z
LAST-MODIFIED:20250909T100038Z
UID:44090-1758844800-1758931199@ordineavvocatifoggia.it
SUMMARY:Rinvio udienza del 26/09/2025 Giudice di Pace di Lucera dott.ssa Ferrigni
DESCRIPTION:L’udienza è rinviata d’ufficio al giorno 10/12/2025 come da avviso allegato. \n\n        \n            Allegati\n        CCE_005168 (229 kB)
URL:https://ordineavvocatifoggia.it/event/rinvio-udienza-del-26-09-2025-giudice-di-pace-di-lucera-dott-ssa-ferrigni/
CATEGORIES:Rinivii udienze
END:VEVENT
END:VCALENDAR