BEGIN:VCALENDAR
VERSION:2.0
PRODID:-//Ordine degli Avvocati di Foggia - ECPv4.9.10//NONSGML v1.0//EN
CALSCALE:GREGORIAN
METHOD:PUBLISH
X-WR-CALNAME:Ordine degli Avvocati di Foggia
X-ORIGINAL-URL:https://ordineavvocatifoggia.it
X-WR-CALDESC:Eventi per Ordine degli Avvocati di Foggia
BEGIN:VTIMEZONE
TZID:Europe/Rome
BEGIN:DAYLIGHT
TZOFFSETFROM:+0100
TZOFFSETTO:+0200
TZNAME:CEST
DTSTART:20250330T010000
END:DAYLIGHT
BEGIN:STANDARD
TZOFFSETFROM:+0200
TZOFFSETTO:+0100
TZNAME:CET
DTSTART:20251026T010000
END:STANDARD
END:VTIMEZONE
BEGIN:VEVENT
DTSTART;VALUE=DATE:20251022
DTEND;VALUE=DATE:20251023
DTSTAMP:20260425T033828
CREATED:20251003T131308Z
LAST-MODIFIED:20251003T131308Z
UID:44242-1761091200-1761177599@ordineavvocatifoggia.it
SUMMARY:Rinvio udienza del 22/10/2025 Corte di Appello di Bari Terza Sez. Civ. - Sez. Agraria
DESCRIPTION:L’udienza è rinviata d’ufficio al giorno 25.02.2026 come da provvedimento allegato. \n\n        \n            Allegati\n        RINVIO UDIENZA AGRARIA DEL 22-10-2025 (195 kB)
URL:https://ordineavvocatifoggia.it/event/rinvio-udienza-del-22-10-2025-corte-di-appello-di-bari-terza-sez-civ-sez-agraria/
CATEGORIES:Rinivii udienze
END:VEVENT
END:VCALENDAR