BEGIN:VCALENDAR
VERSION:2.0
PRODID:-//Ordine degli Avvocati di Foggia - ECPv4.9.10//NONSGML v1.0//EN
CALSCALE:GREGORIAN
METHOD:PUBLISH
X-WR-CALNAME:Ordine degli Avvocati di Foggia
X-ORIGINAL-URL:https://ordineavvocatifoggia.it
X-WR-CALDESC:Eventi per Ordine degli Avvocati di Foggia
BEGIN:VTIMEZONE
TZID:Europe/Rome
BEGIN:DAYLIGHT
TZOFFSETFROM:+0100
TZOFFSETTO:+0200
TZNAME:CEST
DTSTART:20200329T010000
END:DAYLIGHT
BEGIN:STANDARD
TZOFFSETFROM:+0200
TZOFFSETTO:+0100
TZNAME:CET
DTSTART:20201025T010000
END:STANDARD
END:VTIMEZONE
BEGIN:VEVENT
DTSTART;VALUE=DATE:20200522
DTEND;VALUE=DATE:20200523
DTSTAMP:20260425T210244
CREATED:20200520T155837Z
LAST-MODIFIED:20200520T155837Z
UID:20097-1590105600-1590191999@ordineavvocatifoggia.it
SUMMARY:Rinvio udienza del 22/05/2002 dott.ssa Siciliani
DESCRIPTION:L’udienza è rinviata d’ufficio come da ruolo allegato. \n\n		AllegatiRinvio udienza del 22/05/2002 dott.ssa Siciliani (354.6 KB) 
URL:https://ordineavvocatifoggia.it/event/rinvio-udienza-del-22-05-2002-dott-ssa-siciliani/
CATEGORIES:Rinivii udienze
END:VEVENT
END:VCALENDAR