BEGIN:VCALENDAR
VERSION:2.0
PRODID:-//Ordine degli Avvocati di Foggia - ECPv4.9.10//NONSGML v1.0//EN
CALSCALE:GREGORIAN
METHOD:PUBLISH
X-WR-CALNAME:Ordine degli Avvocati di Foggia
X-ORIGINAL-URL:https://ordineavvocatifoggia.it
X-WR-CALDESC:Eventi per Ordine degli Avvocati di Foggia
BEGIN:VTIMEZONE
TZID:Europe/Rome
BEGIN:DAYLIGHT
TZOFFSETFROM:+0100
TZOFFSETTO:+0200
TZNAME:CEST
DTSTART:20230326T010000
END:DAYLIGHT
BEGIN:STANDARD
TZOFFSETFROM:+0200
TZOFFSETTO:+0100
TZNAME:CET
DTSTART:20231029T010000
END:STANDARD
END:VTIMEZONE
BEGIN:VEVENT
DTSTART;VALUE=DATE:20231020
DTEND;VALUE=DATE:20231021
DTSTAMP:20260423T004525
CREATED:20231003T064247Z
LAST-MODIFIED:20231003T064247Z
UID:39294-1697760000-1697846399@ordineavvocatifoggia.it
SUMMARY:Rinvio udienza del 20/10/2023  Giudice di Pace di Termoli Avv. Casale
DESCRIPTION:L’udienza è rinviata d’ufficio al giorno 19/1/2024 come da provvedimento allegato. \n\n        \n            Allegati\n        2023-10-20 casale (244 kB)
URL:https://ordineavvocatifoggia.it/event/rinvio-udienza-del-20-10-2023-giudice-di-pace-di-termoli-avv-casale/
CATEGORIES:Rinivii udienze
END:VEVENT
END:VCALENDAR