BEGIN:VCALENDAR
VERSION:2.0
PRODID:-//Ordine degli Avvocati di Foggia - ECPv4.9.10//NONSGML v1.0//EN
CALSCALE:GREGORIAN
METHOD:PUBLISH
X-WR-CALNAME:Ordine degli Avvocati di Foggia
X-ORIGINAL-URL:https://ordineavvocatifoggia.it
X-WR-CALDESC:Eventi per Ordine degli Avvocati di Foggia
BEGIN:VTIMEZONE
TZID:Europe/Rome
BEGIN:DAYLIGHT
TZOFFSETFROM:+0100
TZOFFSETTO:+0200
TZNAME:CEST
DTSTART:20210328T010000
END:DAYLIGHT
BEGIN:STANDARD
TZOFFSETFROM:+0200
TZOFFSETTO:+0100
TZNAME:CET
DTSTART:20211031T010000
END:STANDARD
END:VTIMEZONE
BEGIN:VEVENT
DTSTART;VALUE=DATE:20210914
DTEND;VALUE=DATE:20210915
DTSTAMP:20260421T234542
CREATED:20210916T090752Z
LAST-MODIFIED:20210916T115209Z
UID:29976-1631577600-1631663999@ordineavvocatifoggia.it
SUMMARY:Rinvio udienza del 14/9/2021 Tribunale di Foggia S.L. dott.ssa Sgarro
DESCRIPTION:L’udienza è rinviata d’ufficio come da provvedimenti allegati. \nI provvedimenti sono allegati. \n\n        \n            Allegati\n        atto65883074_2953103408259571117 (128 kB)atto65883066_3587893396521034419 (128 kB)atto65883119_8949739282218593757 (128 kB)
URL:https://ordineavvocatifoggia.it/event/rinvio-udienza-del-14-9-2021-tribunale-di-foggia-s-l-dott-ssa-sgarro/
CATEGORIES:Rinivii udienze
END:VEVENT
END:VCALENDAR