BEGIN:VCALENDAR
VERSION:2.0
PRODID:-//Ordine degli Avvocati di Foggia - ECPv4.9.10//NONSGML v1.0//EN
CALSCALE:GREGORIAN
METHOD:PUBLISH
X-WR-CALNAME:Ordine degli Avvocati di Foggia
X-ORIGINAL-URL:https://ordineavvocatifoggia.it
X-WR-CALDESC:Eventi per Ordine degli Avvocati di Foggia
BEGIN:VTIMEZONE
TZID:Europe/Rome
BEGIN:DAYLIGHT
TZOFFSETFROM:+0100
TZOFFSETTO:+0200
TZNAME:CEST
DTSTART:20230326T010000
END:DAYLIGHT
BEGIN:STANDARD
TZOFFSETFROM:+0200
TZOFFSETTO:+0100
TZNAME:CET
DTSTART:20231029T010000
END:STANDARD
END:VTIMEZONE
BEGIN:VEVENT
DTSTART;VALUE=DATE:20231013
DTEND;VALUE=DATE:20231014
DTSTAMP:20260423T233419
CREATED:20231012T120721Z
LAST-MODIFIED:20231012T120721Z
UID:39546-1697155200-1697241599@ordineavvocatifoggia.it
SUMMARY:Rinvio udienza del 13/10/2023 Giudice di Pace di Lucera dott.ssa Ferrigni
DESCRIPTION:L’udienza è rinviata d’ufficio al giorno 23/2/2024 come da avviso allegato. \n\n        \n            Allegati\n        2023.10.13 Rinvio Ferrigni (216 kB)
URL:https://ordineavvocatifoggia.it/event/rinvio-udienza-del-13-10-2023-giudice-di-pace-di-lucera-dott-ssa-ferrigni/
CATEGORIES:Rinivii udienze
END:VEVENT
END:VCALENDAR