BEGIN:VCALENDAR
VERSION:2.0
PRODID:-//Ordine degli Avvocati di Foggia - ECPv4.9.10//NONSGML v1.0//EN
CALSCALE:GREGORIAN
METHOD:PUBLISH
X-WR-CALNAME:Ordine degli Avvocati di Foggia
X-ORIGINAL-URL:https://ordineavvocatifoggia.it
X-WR-CALDESC:Eventi per Ordine degli Avvocati di Foggia
BEGIN:VTIMEZONE
TZID:Europe/Rome
BEGIN:DAYLIGHT
TZOFFSETFROM:+0100
TZOFFSETTO:+0200
TZNAME:CEST
DTSTART:20260329T010000
END:DAYLIGHT
BEGIN:STANDARD
TZOFFSETFROM:+0200
TZOFFSETTO:+0100
TZNAME:CET
DTSTART:20261025T010000
END:STANDARD
END:VTIMEZONE
BEGIN:VEVENT
DTSTART;VALUE=DATE:20260213
DTEND;VALUE=DATE:20260214
DTSTAMP:20260424T200315
CREATED:20260211T110819Z
LAST-MODIFIED:20260211T110819Z
UID:45054-1770940800-1771027199@ordineavvocatifoggia.it
SUMMARY:Rinvio udienza del 13/02/2026 Giudice di Pace di Manfredonia dott.ssa Russo
DESCRIPTION:L’udienza è rinviata d’ufficio come da provvedimento allegato. \n\n        \n            Allegati\n        DIFFERIMENTO UDIENZA 13-02-2026 (585 kB)
URL:https://ordineavvocatifoggia.it/event/rinvio-udienza-del-13-02-2026-giudice-di-pace-di-manfredonia-dott-ssa-russo/
CATEGORIES:Rinivii udienze
END:VEVENT
END:VCALENDAR