BEGIN:VCALENDAR
VERSION:2.0
PRODID:-//Ordine degli Avvocati di Foggia - ECPv4.9.10//NONSGML v1.0//EN
CALSCALE:GREGORIAN
METHOD:PUBLISH
X-WR-CALNAME:Ordine degli Avvocati di Foggia
X-ORIGINAL-URL:https://ordineavvocatifoggia.it
X-WR-CALDESC:Eventi per Ordine degli Avvocati di Foggia
BEGIN:VTIMEZONE
TZID:Europe/Rome
BEGIN:DAYLIGHT
TZOFFSETFROM:+0100
TZOFFSETTO:+0200
TZNAME:CEST
DTSTART:20210328T010000
END:DAYLIGHT
BEGIN:STANDARD
TZOFFSETFROM:+0200
TZOFFSETTO:+0100
TZNAME:CET
DTSTART:20211031T010000
END:STANDARD
END:VTIMEZONE
BEGIN:VEVENT
DTSTART;VALUE=DATE:20210512
DTEND;VALUE=DATE:20210513
DTSTAMP:20260424T072223
CREATED:20210512T063442Z
LAST-MODIFIED:20210512T063442Z
UID:28341-1620777600-1620863999@ordineavvocatifoggia.it
SUMMARY:Rinvio udienza del 12/5/2021 Giudice di Pace di Foggia dott.ssa Gerardo
DESCRIPTION:L’udienza è rinviata d’ufficio come da comunicazione allegata. \n\n		Allegatirinvio udienza 12.05 Gerardo (116.5 KB) 
URL:https://ordineavvocatifoggia.it/event/rinvio-udienza-del-12-5-2021-giudice-di-pace-di-foggia-dott-ssa-gerardo/
CATEGORIES:Rinivii udienze
END:VEVENT
END:VCALENDAR