BEGIN:VCALENDAR
VERSION:2.0
PRODID:-//Ordine degli Avvocati di Foggia - ECPv4.9.10//NONSGML v1.0//EN
CALSCALE:GREGORIAN
METHOD:PUBLISH
X-WR-CALNAME:Ordine degli Avvocati di Foggia
X-ORIGINAL-URL:https://ordineavvocatifoggia.it
X-WR-CALDESC:Eventi per Ordine degli Avvocati di Foggia
BEGIN:VTIMEZONE
TZID:Europe/Rome
BEGIN:DAYLIGHT
TZOFFSETFROM:+0100
TZOFFSETTO:+0200
TZNAME:CEST
DTSTART:20240331T010000
END:DAYLIGHT
BEGIN:STANDARD
TZOFFSETFROM:+0200
TZOFFSETTO:+0100
TZNAME:CET
DTSTART:20241027T010000
END:STANDARD
END:VTIMEZONE
BEGIN:VEVENT
DTSTART;VALUE=DATE:20240412
DTEND;VALUE=DATE:20240413
DTSTAMP:20260422T172056
CREATED:20240112T140929Z
LAST-MODIFIED:20240112T140929Z
UID:40234-1712880000-1712966399@ordineavvocatifoggia.it
SUMMARY:Rinvio udienza del 12/4/2024 Giudice di Pace di Termoli ex ruolo Avv. Casale
DESCRIPTION:L’udienza è rinviata d’ufficio al giorno come da provvedimento allegato. \n\n        \n            Allegati\n        PROVVEDIMENTI RINVIO GIUDICE DI PACE DI TERMOLI pages 1 - 15 page 13 (406 kB)
URL:https://ordineavvocatifoggia.it/event/rinvio-udienza-del-12-4-2024-giudice-di-pace-di-termoli-ex-ruolo-avv-casale/
CATEGORIES:Rinivii udienze
END:VEVENT
END:VCALENDAR