BEGIN:VCALENDAR
VERSION:2.0
PRODID:-//Ordine degli Avvocati di Foggia - ECPv4.9.10//NONSGML v1.0//EN
CALSCALE:GREGORIAN
METHOD:PUBLISH
X-WR-CALNAME:Ordine degli Avvocati di Foggia
X-ORIGINAL-URL:https://ordineavvocatifoggia.it
X-WR-CALDESC:Eventi per Ordine degli Avvocati di Foggia
BEGIN:VTIMEZONE
TZID:Europe/Rome
BEGIN:DAYLIGHT
TZOFFSETFROM:+0100
TZOFFSETTO:+0200
TZNAME:CEST
DTSTART:20150329T010000
END:DAYLIGHT
BEGIN:STANDARD
TZOFFSETFROM:+0200
TZOFFSETTO:+0100
TZNAME:CET
DTSTART:20151025T010000
END:STANDARD
END:VTIMEZONE
BEGIN:VEVENT
DTSTART;TZID=Europe/Rome:20151212T090000
DTEND;TZID=Europe/Rome:20151212T130000
DTSTAMP:20260421T122508
CREATED:20151125T065629Z
LAST-MODIFIED:20151125T065629Z
UID:7981-1449910800-1449925200@ordineavvocatifoggia.it
SUMMARY:Incontro di formazione in San Marco in Lamis
DESCRIPTION:Proprietà privata e pubblica utilità \nSintesi di un rapporto controverso \nEvoluzioni giurisprudenziali \nrelatore: Avv. Gianni Cerisano \n\nLa partecipazione agli incontri\, riservata a n. 200 partecipanti\, è gratuita ed è valida ai fini della formazione professionale continua per quattro crediti formativo. \nL’incontro è stato accreditato dal Consiglio dell’Ordine degli Avvocati di Foggia. \nIscrizione in sede. \nCol patrocinio del Consiglio dell’Ordine degli Avvocati di Foggia e del Comune di San Marco in Lamis. \n
URL:https://ordineavvocatifoggia.it/event/incontro-di-formazione-in-san-marco-in-lamis/
CATEGORIES:Eventi Formativi
END:VEVENT
END:VCALENDAR