BEGIN:VCALENDAR
VERSION:2.0
PRODID:-//Ordine degli Avvocati di Foggia - ECPv4.9.10//NONSGML v1.0//EN
CALSCALE:GREGORIAN
METHOD:PUBLISH
X-WR-CALNAME:Ordine degli Avvocati di Foggia
X-ORIGINAL-URL:https://ordineavvocatifoggia.it
X-WR-CALDESC:Eventi per Ordine degli Avvocati di Foggia
BEGIN:VTIMEZONE
TZID:Europe/Rome
BEGIN:DAYLIGHT
TZOFFSETFROM:+0100
TZOFFSETTO:+0200
TZNAME:CEST
DTSTART:20230326T010000
END:DAYLIGHT
BEGIN:STANDARD
TZOFFSETFROM:+0200
TZOFFSETTO:+0100
TZNAME:CET
DTSTART:20231029T010000
END:STANDARD
END:VTIMEZONE
BEGIN:VEVENT
DTSTART;TZID=Europe/Rome:20230522T153000
DTEND;TZID=Europe/Rome:20230522T173000
DTSTAMP:20260425T234901
CREATED:20230515T122618Z
LAST-MODIFIED:20230515T122716Z
UID:38257-1684769400-1684776600@ordineavvocatifoggia.it
SUMMARY:Il legittimo impedimento ed il protocollo d'intesa per la tutela del diritti di pari opportunità e di genitorialità vigente nel Foro di Foggia
DESCRIPTION:La locandina è allegata. \n \n
URL:https://ordineavvocatifoggia.it/event/il-legittimo-impedimento-ed-il-protocollo-dintesa-per-la-tutela-del-diritti-di-pari-opportunita-e-di-genitorialita-vigente-nel-foro-di-foggia/
CATEGORIES:Eventi Formativi
END:VEVENT
END:VCALENDAR