BEGIN:VCALENDAR
VERSION:2.0
PRODID:-//Ordine degli Avvocati di Foggia - ECPv4.9.10//NONSGML v1.0//EN
CALSCALE:GREGORIAN
METHOD:PUBLISH
X-WR-CALNAME:Ordine degli Avvocati di Foggia
X-ORIGINAL-URL:https://ordineavvocatifoggia.it
X-WR-CALDESC:Eventi per Ordine degli Avvocati di Foggia
BEGIN:VTIMEZONE
TZID:Europe/Rome
BEGIN:DAYLIGHT
TZOFFSETFROM:+0100
TZOFFSETTO:+0200
TZNAME:CEST
DTSTART:20230326T010000
END:DAYLIGHT
BEGIN:STANDARD
TZOFFSETFROM:+0200
TZOFFSETTO:+0100
TZNAME:CET
DTSTART:20231029T010000
END:STANDARD
END:VTIMEZONE
BEGIN:VEVENT
DTSTART;TZID=Europe/Rome:20230605T150000
DTEND;TZID=Europe/Rome:20230605T160000
DTSTAMP:20260425T221534
CREATED:20230601T105615Z
LAST-MODIFIED:20230601T105615Z
UID:38433-1685977200-1685980800@ordineavvocatifoggia.it
SUMMARY:Corso di penale e procedura penale su riforma Cartabia "Tra innovazione e continuità" - Obiettivi - Analisi degli aspetti pratici - Riflessioni critiche
DESCRIPTION:Si segnala il corso in oggetto. \nIl Corso è gratuito e avrà inizio  il 5 giugno 2023. \nChi fosse interessato è invitato a iscriversi a mezzo della piattaforma Avvoclic. \n  \n \n
URL:https://ordineavvocatifoggia.it/event/corso-di-penale-e-procedura-penale-su-riforma-cartabia-tra-innovazione-e-continuita-obiettivi-analisi-degli-aspetti-pratici-riflessioni-critiche/
CATEGORIES:Eventi Formativi
END:VEVENT
END:VCALENDAR