BEGIN:VCALENDAR
VERSION:2.0
PRODID:-//Ordine degli Avvocati di Foggia - ECPv4.9.10//NONSGML v1.0//EN
CALSCALE:GREGORIAN
METHOD:PUBLISH
X-WR-CALNAME:Ordine degli Avvocati di Foggia
X-ORIGINAL-URL:https://ordineavvocatifoggia.it
X-WR-CALDESC:Eventi per Ordine degli Avvocati di Foggia
BEGIN:VTIMEZONE
TZID:Europe/Rome
BEGIN:DAYLIGHT
TZOFFSETFROM:+0100
TZOFFSETTO:+0200
TZNAME:CEST
DTSTART:20230326T010000
END:DAYLIGHT
BEGIN:STANDARD
TZOFFSETFROM:+0200
TZOFFSETTO:+0100
TZNAME:CET
DTSTART:20231029T010000
END:STANDARD
END:VTIMEZONE
BEGIN:VEVENT
DTSTART;TZID=Europe/Rome:20230621T093000
DTEND;TZID=Europe/Rome:20230621T113000
DTSTAMP:20260425T145734
CREATED:20230606T123612Z
LAST-MODIFIED:20230606T123612Z
UID:38491-1687339800-1687347000@ordineavvocatifoggia.it
SUMMARY:Avviso Avv. Diego Petroni - 21/6/2023
DESCRIPTION:AVVISO \nSi avvisano i sigg.ri Avvocati che\, presso la sede dell’Organismo di Mediazione del Consiglio dell’Ordine degli Avvocati di Foggia\, l’Avv. Diego Petroni\, in qualità di delegato della Cassa di Previdenza e Assistenza Forense\, il giorno 21 giugno 2023\, dalle ore 9\,30\, alle ore 11\,30\, sarà a disposizione dei colleghi che desiderano ricevere informazioni previdenziali. \nAvv. Diego Petroni \nPer prenotazioni rivolgersi all’Organismo di Mediazione 0881 331704 \n
URL:https://ordineavvocatifoggia.it/event/avviso-avv-diego-petroni-21-6-2023/
LOCATION:Organismo di Mediazione
CATEGORIES:Avv. Diego Petroni
END:VEVENT
END:VCALENDAR